BEGIN:VCALENDAR
VERSION:2.0
PRODID:-//Westward Parish Council//Meeting Calendar//EN
CALSCALE:GREGORIAN
METHOD:PUBLISH
BEGIN:VEVENT
UID:70354-20231120@westward-pc.gov.uk
DTSTAMP:20260421T084228Z
DTSTART;VALUE=DATE:20231120
DTEND;VALUE=DATE:20231121
SUMMARY:Council Meeting 20th November
DESCRIPTION:Full Council Meeting\nView details: https://westward-pc.gov.uk/meetings/council-meeting-20th-november/
URL:https://westward-pc.gov.uk/meetings/council-meeting-20th-november/
END:VEVENT
END:VCALENDAR
